BEGIN:VCALENDAR
VERSION:2.0
PRODID:-//Edelweissfilm - ECPv6.15.15//NONSGML v1.0//EN
CALSCALE:GREGORIAN
METHOD:PUBLISH
X-ORIGINAL-URL:https://derbergfilmer.de
X-WR-CALDESC:Veranstaltungen für Edelweissfilm
REFRESH-INTERVAL;VALUE=DURATION:PT1H
X-Robots-Tag:noindex
X-PUBLISHED-TTL:PT1H
BEGIN:VTIMEZONE
TZID:Europe/Berlin
BEGIN:DAYLIGHT
TZOFFSETFROM:+0100
TZOFFSETTO:+0200
TZNAME:CEST
DTSTART:20240331T010000
END:DAYLIGHT
BEGIN:STANDARD
TZOFFSETFROM:+0200
TZOFFSETTO:+0100
TZNAME:CET
DTSTART:20241027T010000
END:STANDARD
BEGIN:DAYLIGHT
TZOFFSETFROM:+0100
TZOFFSETTO:+0200
TZNAME:CEST
DTSTART:20250330T010000
END:DAYLIGHT
BEGIN:STANDARD
TZOFFSETFROM:+0200
TZOFFSETTO:+0100
TZNAME:CET
DTSTART:20251026T010000
END:STANDARD
BEGIN:DAYLIGHT
TZOFFSETFROM:+0100
TZOFFSETTO:+0200
TZNAME:CEST
DTSTART:20260329T010000
END:DAYLIGHT
BEGIN:STANDARD
TZOFFSETFROM:+0200
TZOFFSETTO:+0100
TZNAME:CET
DTSTART:20261025T010000
END:STANDARD
BEGIN:DAYLIGHT
TZOFFSETFROM:+0100
TZOFFSETTO:+0200
TZNAME:CEST
DTSTART:20270328T010000
END:DAYLIGHT
BEGIN:STANDARD
TZOFFSETFROM:+0200
TZOFFSETTO:+0100
TZNAME:CET
DTSTART:20271031T010000
END:STANDARD
END:VTIMEZONE
BEGIN:VTIMEZONE
TZID:UTC
BEGIN:STANDARD
TZOFFSETFROM:+0000
TZOFFSETTO:+0000
TZNAME:UTC
DTSTART:20240101T000000
END:STANDARD
END:VTIMEZONE
BEGIN:VEVENT
DTSTART;TZID=Europe/Berlin:20260221T200000
DTEND;TZID=Europe/Berlin:20260221T220000
DTSTAMP:20260419T173428
CREATED:20260118T111811Z
LAST-MODIFIED:20260118T112742Z
UID:3266-1771704000-1771711200@derbergfilmer.de
SUMMARY:Der Forggensee - ein neuer See im alten Bett
DESCRIPTION:1954 wurde der Lech von Rosshaupten bis Füssen zum Forggensee aufgestaut\, Deutschland größter Stausee war geboren. In einer Symbiose von Poesie und Dokumentation erzählt der Film die außergewöhnliche Geschichte vom Werden und Vergehen eines Sees der zweimal geboren wurde. Es ist mehr als nur eine Dokumentation – denn der Forggensee selber erzählt in einer eigener poetischer Sprache seine ureigenste Geschichte. Aufwendig restauriertes historisches Filmmaterial macht die Vergangenheit lebendig. Verlust und menschliche Tragödien. Ein Kampf zwischen Bewahrung und Fortschritt.Tickets unter: info@filmburg.de und 08342 916 683
URL:https://derbergfilmer.de/event/der-forggensee-ein-neuer-see-im-alten-bett-7/
CATEGORIES:Filmvorführung
ATTACH;FMTTYPE=image/png:https://derbergfilmer.de/wp-content/uploads/2024/12/Logo-filmburg-300dpi-.png
END:VEVENT
BEGIN:VEVENT
DTSTART;TZID=Europe/Berlin:20260221T160000
DTEND;TZID=Europe/Berlin:20260221T180000
DTSTAMP:20260419T173428
CREATED:20260118T111204Z
LAST-MODIFIED:20260118T112333Z
UID:3263-1771689600-1771696800@derbergfilmer.de
SUMMARY:Der Forggensee - ein neuer See im alten Bett
DESCRIPTION:1954 wurde der Lech von Rosshaupten bis Füssen zum Forggensee aufgestaut\, Deutschland größter Stausee war geboren. In einer Symbiose von Poesie und Dokumentation erzählt der Film die außergewöhnliche Geschichte vom Werden und Vergehen eines Sees der zweimal geboren wurde. Es ist mehr als nur eine Dokumentation – denn der Forggensee selber erzählt in einer eigener poetischer Sprache seine ureigenste Geschichte. Aufwendig restauriertes historisches Filmmaterial macht die Vergangenheit lebendig. Verlust und menschliche Tragödien. Ein Kampf zwischen Bewahrung und Fortschritt.Tickets unter: info@filmburg.de und 08342 916 683
URL:https://derbergfilmer.de/event/der-forggensee-ein-neuer-see-im-alten-bett-6/
CATEGORIES:Filmvorführung
ATTACH;FMTTYPE=image/png:https://derbergfilmer.de/wp-content/uploads/2024/12/Logo-filmburg-300dpi-.png
END:VEVENT
BEGIN:VEVENT
DTSTART;TZID=Europe/Berlin:20260220T200000
DTEND;TZID=Europe/Berlin:20260220T220000
DTSTAMP:20260419T173428
CREATED:20260118T110226Z
LAST-MODIFIED:20260118T112616Z
UID:3259-1771617600-1771624800@derbergfilmer.de
SUMMARY:Der Forggensee - ein neuer See im alten Bett
DESCRIPTION:1954 wurde der Lech von Rosshaupten bis Füssen zum Forggensee aufgestaut\, Deutschland größter Stausee war geboren. In einer Symbiose von Poesie und Dokumentation erzählt der Film die außergewöhnliche Geschichte vom Werden und Vergehen eines Sees der zweimal geboren wurde. Es ist mehr als nur eine Dokumentation – denn der Forggensee selber erzählt in einer eigener poetischer Sprache seine ureigenste Geschichte. Aufwendig restauriertes historisches Filmmaterial macht die Vergangenheit lebendig. Verlust und menschliche Tragödien. Ein Kampf zwischen Bewahrung und Fortschritt.Tickets unter: info@filmburg.de und 08342 916 683
URL:https://derbergfilmer.de/event/3259/
CATEGORIES:Filmvorführung
ATTACH;FMTTYPE=image/png:https://derbergfilmer.de/wp-content/uploads/2024/12/Logo-filmburg-300dpi-.png
END:VEVENT
BEGIN:VEVENT
DTSTART;TZID=Europe/Berlin:20260218T183000
DTEND;TZID=Europe/Berlin:20260218T200000
DTSTAMP:20260419T173428
CREATED:20260210T165618Z
LAST-MODIFIED:20260210T175356Z
UID:3283-1771439400-1771444800@derbergfilmer.de
SUMMARY:Der Forggensee - ein neuer See im alten Bett
DESCRIPTION:1954 wurde der Lech von Rosshaupten bis Füssen zum Forggensee aufgestaut\, Deutschland größter Stausee war geboren. In einer Symbiose von Poesie und Dokumentation erzählt der Film die außergewöhnliche Geschichte vom Werden und Vergehen eines Sees der zweimal geboren wurde. Es ist mehr als nur eine Dokumentation – denn der Forggensee selber erzählt in eigener poetischer Sprache seine ureigenste Geschichte. Aufwendig restauriertes historisches Filmmaterial macht die Vergangenheit lebendig. Verlust und menschliche Tragödien. Ein Kampf zwischen Bewahrung und Fortschritt. Neu erzählt. Neu verfilmt. Tickets und Reservierung unter Kinowelt Diessen am Ammersee
URL:https://derbergfilmer.de/event/3283/
ATTACH;FMTTYPE=image/png:https://derbergfilmer.de/wp-content/uploads/2026/01/Kinowelt.png
END:VEVENT
BEGIN:VEVENT
DTSTART;TZID=Europe/Berlin:20260215T201500
DTEND;TZID=Europe/Berlin:20260215T220000
DTSTAMP:20260419T173428
CREATED:20260210T165504Z
LAST-MODIFIED:20260210T175928Z
UID:3281-1771186500-1771192800@derbergfilmer.de
SUMMARY:Der Forggensee - ein neuer See im alten Bett
DESCRIPTION:1954 wurde der Lech von Rosshaupten bis Füssen zum Forggensee aufgestaut\, Deutschland größter Stausee war geboren. In einer Symbiose von Poesie und Dokumentation erzählt der Film die außergewöhnliche Geschichte vom Werden und Vergehen eines Sees der zweimal geboren wurde. Es ist mehr als nur eine Dokumentation – denn der Forggensee selber erzählt in eigener poetischer Sprache seine ureigenste Geschichte. Aufwendig restauriertes historisches Filmmaterial macht die Vergangenheit lebendig. Verlust und menschliche Tragödien. Ein Kampf zwischen Bewahrung und Fortschritt. Neu erzählt. Neu verfilmt. Tickets und Reservierung unter Kinowelt Diessen am Ammersee
URL:https://derbergfilmer.de/event/der-forggensee-ein-neuer-see-im-alten-bett-10/
ATTACH;FMTTYPE=image/png:https://derbergfilmer.de/wp-content/uploads/2026/01/Kinowelt.png
END:VEVENT
BEGIN:VEVENT
DTSTART;TZID=Europe/Berlin:20260214T170000
DTEND;TZID=Europe/Berlin:20260214T170000
DTSTAMP:20260419T173428
CREATED:20260210T165317Z
LAST-MODIFIED:20260210T175826Z
UID:3279-1771088400-1771088400@derbergfilmer.de
SUMMARY:Der Forggensee - ein Neuer see im alten bett
DESCRIPTION:1954 wurde der Lech von Rosshaupten bis Füssen zum Forggensee aufgestaut\, Deutschland größter Stausee war geboren. In einer Symbiose von Poesie und Dokumentation erzählt der Film die außergewöhnliche Geschichte vom Werden und Vergehen eines Sees der zweimal geboren wurde. Es ist mehr als nur eine Dokumentation – denn der Forggensee selber erzählt in eigener poetischer Sprache seine ureigenste Geschichte. Aufwendig restauriertes historisches Filmmaterial macht die Vergangenheit lebendig. Verlust und menschliche Tragödien. Ein Kampf zwischen Bewahrung und Fortschritt. Neu erzählt. Neu verfilmt. Tickets und Reservierung unter Kinowelt Diessen am Ammersee
URL:https://derbergfilmer.de/event/der-forggensee-ein-neuer-see-im-alten-bett-9/
ATTACH;FMTTYPE=image/png:https://derbergfilmer.de/wp-content/uploads/2026/01/Kinowelt.png
END:VEVENT
BEGIN:VEVENT
DTSTART;TZID=Europe/Berlin:20260213T170000
DTEND;TZID=Europe/Berlin:20260213T170000
DTSTAMP:20260419T173428
CREATED:20260210T164649Z
LAST-MODIFIED:20260210T175736Z
UID:3276-1771002000-1771002000@derbergfilmer.de
SUMMARY:Der Forggensee - ein neuer See im alten Bett
DESCRIPTION:1954 wurde der Lech von Rosshaupten bis Füssen zum Forggensee aufgestaut\, Deutschland größter Stausee war geboren. In einer Symbiose von Poesie und Dokumentation erzählt der Film die außergewöhnliche Geschichte vom Werden und Vergehen eines Sees der zweimal geboren wurde. Es ist mehr als nur eine Dokumentation – denn der Forggensee selber erzählt in eigener poetischer Sprache seine ureigenste Geschichte. Aufwendig restauriertes historisches Filmmaterial macht die Vergangenheit lebendig. Verlust und menschliche Tragödien. Ein Kampf zwischen Bewahrung und Fortschritt. Neu erzählt. Neu verfilmt. Tickets und Reservierung unter Kinowelt Diessen am Ammersee
URL:https://derbergfilmer.de/event/der-forggensee-ein-neuer-see-im-alten-bett-8/
ATTACH;FMTTYPE=image/png:https://derbergfilmer.de/wp-content/uploads/2026/01/Kinowelt.png
END:VEVENT
BEGIN:VEVENT
DTSTART;TZID=Europe/Berlin:20260204T201500
DTEND;TZID=Europe/Berlin:20260204T220000
DTSTAMP:20260419T173428
CREATED:20260118T102339Z
LAST-MODIFIED:20260118T113034Z
UID:3247-1770236100-1770242400@derbergfilmer.de
SUMMARY:Der Forggensee - ein neuer See im alten Bett
DESCRIPTION:1954 wurde der Lech von Rosshaupten bis Füssen zum Forggensee aufgestaut\, Deutschland größter Stausee war geboren. In einer Symbiose von Poesie und Dokumentation erzählt der Film die außergewöhnliche Geschichte vom Werden und Vergehen eines Sees der zweimal geboren wurde. Es ist mehr als nur eine Dokumentation – denn der Forggensee selber erzählt in eigener poetischer Sprache seine ureigenste Geschichte. Aufwendig restauriertes historisches Filmmaterial macht die Vergangenheit lebendig. Verlust und menschliche Tragödien. Ein Kampf zwischen Bewahrung und Fortschritt. Neu erzählt. Neu verfilmt. Tickets und Reservierung unter Kinowelt Diessen am Ammersee
URL:https://derbergfilmer.de/event/der-forggensee-ein-neuer-see-im-alten-bett-5/
CATEGORIES:Filmvorführung
ATTACH;FMTTYPE=image/png:https://derbergfilmer.de/wp-content/uploads/2026/01/Kinowelt.png
END:VEVENT
BEGIN:VEVENT
DTSTART;TZID=Europe/Berlin:20251021T200000
DTEND;TZID=Europe/Berlin:20251021T220000
DTSTAMP:20260419T173428
CREATED:20251004T111603Z
LAST-MODIFIED:20251004T202710Z
UID:3199-1761076800-1761084000@derbergfilmer.de
SUMMARY:Der Forggensee - ein neuer See im alten Bett
DESCRIPTION:1954 wurde der Lech von Rosshaupten bis Füssen zum Forggensee aufgestaut\, Deutschland größter Stausee war geboren. In einer Symbiose von Poesie und Dokumentation erzählt der Film die außergewöhnliche Geschichte vom Werden und Vergehen eines Sees der zweimal geboren wurde. Es ist mehr als nur eine Dokumentation – denn der Forggensee selber erzählt in eigener poetischer Sprache seine ureigenste Geschichte. Aufwendig restauriertes historisches Filmmaterial macht die Vergangenheit lebendig. Verlust und menschliche Tragödien. Ein Kampf zwischen Bewahrung und Fortschritt. Neu erzählt. Neu verfilmt. Vorverkauf und Reservierung per Mail unter info@ok-kino.de
URL:https://derbergfilmer.de/event/der-forggensee-ein-neuer-see-im-alten-bett-4/
CATEGORIES:Filmvorführung
ATTACH;FMTTYPE=image/jpeg:https://derbergfilmer.de/wp-content/uploads/2025/10/200x150.jpg
END:VEVENT
BEGIN:VEVENT
DTSTART;TZID=Europe/Berlin:20251018T200000
DTEND;TZID=Europe/Berlin:20251018T220000
DTSTAMP:20260419T173428
CREATED:20250727T182420Z
LAST-MODIFIED:20250727T220915Z
UID:3158-1760817600-1760824800@derbergfilmer.de
SUMMARY:Der Forggensee - Filmevent mit Bühnenprogramm
DESCRIPTION:1954 wurde der Lech von Rosshaupten bis Füssen zum Forggensee aufgestaut\, Deutschland größter Stausee war geboren. In einer Symbiose von Poesie und Dokumentation erzählt der Film die außergewöhnliche Geschichte vom Werden und Vergehen eines Sees der zweimal geboren wurde. Es ist mehr als nur eine Dokumentation – denn der Forggensee selber erzählt in eigener poetischer Sprache seine ureigenste Geschichte. Aufwendig restauriertes historisches Filmmaterial macht die Vergangenheit lebendig. Verlust und menschliche Tragödien. Ein Kampf zwischen Bewahrung und Fortschritt. Neu erzählt. Neu verfilmt.Tickets unter: info@filmburg.de und 08342 916 683
URL:https://derbergfilmer.de/event/der-forggensee-filmevent-mit-buehnenprogramm/
ATTACH;FMTTYPE=image/png:https://derbergfilmer.de/wp-content/uploads/2024/12/Logo-filmburg-300dpi-.png
END:VEVENT
BEGIN:VEVENT
DTSTART;TZID=Europe/Berlin:20251018T170000
DTEND;TZID=Europe/Berlin:20251018T190000
DTSTAMP:20260419T173428
CREATED:20250727T175801Z
LAST-MODIFIED:20250727T220821Z
UID:3140-1760806800-1760814000@derbergfilmer.de
SUMMARY:Der Forggensee - Filmevent mit Bühnenprogramm
DESCRIPTION:1954 wurde der Lech von Rosshaupten bis Füssen zum Forggensee aufgestaut\, Deutschland größter Stausee war geboren. In einer Symbiose von Poesie und Dokumentation erzählt der Film die außergewöhnliche Geschichte vom Werden und Vergehen eines Sees der zweimal geboren wurde. Es ist mehr als nur eine Dokumentation – denn der Forggensee selber erzählt in einer eigener poetischer Sprache seine ureigenste Geschichte. Aufwendig restauriertes historisches Filmmaterial macht die Vergangenheit lebendig. Verlust und menschliche Tragödien. Ein Kampf zwischen Bewahrung und Fortschritt.Tickets unter: info@filmburg.de und 08342 916 683
URL:https://derbergfilmer.de/event/der-forggensee-ein-neuer-see-im-alten-bett-3/
ATTACH;FMTTYPE=image/png:https://derbergfilmer.de/wp-content/uploads/2024/12/Logo-filmburg-300dpi-.png
END:VEVENT
BEGIN:VEVENT
DTSTART;TZID=Europe/Berlin:20251017T200000
DTEND;TZID=Europe/Berlin:20251017T220000
DTSTAMP:20260419T173428
CREATED:20250727T153451Z
LAST-MODIFIED:20250727T221313Z
UID:3090-1760731200-1760738400@derbergfilmer.de
SUMMARY:Der Forggensee - Filmevent mit Bühnenprogramm
DESCRIPTION:1954 wurde der Lech von Rosshaupten bis Füssen zum Forggensee aufgestaut\, Deutschland größter Stausee war geboren. In einer Symbiose von Poesie und Dokumentation erzählt der Film die außergewöhnliche Geschichte vom Werden und Vergehen eines Sees der zweimal geboren wurde. Es ist mehr als nur eine Dokumentation – denn der Forggensee selber erzählt in eigener poetischer Sprache seine ureigenste Geschichte. Aufwendig restauriertes historisches Filmmaterial macht die Vergangenheit lebendig. Verlust und menschliche Tragödien. Ein Kampf zwischen Bewahrung und Fortschritt. Neu erzählt. Neu verfilmt.Tickets unter: info@filmburg.de und 08342 916 683
URL:https://derbergfilmer.de/event/der-forggensee-ein-ein-neuer-see-im-alten-bett/
ATTACH;FMTTYPE=image/png:https://derbergfilmer.de/wp-content/uploads/2024/12/Logo-filmburg-300dpi-.png
END:VEVENT
BEGIN:VEVENT
DTSTART;TZID=Europe/Berlin:20250712T190000
DTEND;TZID=Europe/Berlin:20250712T220000
DTSTAMP:20260419T173428
CREATED:20250706T200523Z
LAST-MODIFIED:20250706T201933Z
UID:3065-1752346800-1752357600@derbergfilmer.de
SUMMARY:Der Forggensee – ein Neuer See im alten Bett
DESCRIPTION:1954 wurde der Lech von Rosshaupten bis Füssen zum Forggensee aufgestaut\, Deutschland größter Stausee war geboren. In einer Symbiose von Poesie und Dokumentation erzählt der Film die außergewöhnliche Geschichte vom Werden und Vergehen eines Sees der zweimal geboren wurde. Es ist mehr als nur eine Dokumentation – denn der Forggensee selber erzählt in eigener poetischer Sprache seine ureigenste Geschichte. Aufwendig restauriertes historisches Filmmaterial macht die Vergangenheit lebendig. Verlust und menschliche Tragödien. Ein Kampf zwischen Bewahrung und Fortschritt. Neu erzählt. Neu verfilmt.
URL:https://derbergfilmer.de/event/der-forggensee-ein-neuer-see-im-alten-bett-2/
ATTACH;FMTTYPE=image/png:https://derbergfilmer.de/wp-content/uploads/2025/07/FSF_Logo_500_transparent.png
END:VEVENT
BEGIN:VEVENT
DTSTART;TZID=Europe/Berlin:20250707T180000
DTEND;TZID=Europe/Berlin:20250707T193000
DTSTAMP:20260419T173428
CREATED:20250706T194816Z
LAST-MODIFIED:20250706T200133Z
UID:3060-1751911200-1751916600@derbergfilmer.de
SUMMARY:Der Forggensee – ein Neuer See im alten Bett
DESCRIPTION:1954 wurde der Lech von Rosshaupten bis Füssen zum Forggensee aufgestaut\, Deutschland größter Stausee war geboren. In einer Symbiose von Poesie und Dokumentation erzählt der Film die außergewöhnliche Geschichte vom Werden und Vergehen eines Sees der zweimal geboren wurde. Es ist mehr als nur eine Dokumentation – denn der Forggensee selber erzählt in eigener poetischer Sprache seine ureigenste Geschichte. Aufwendig restauriertes historisches Filmmaterial macht die Vergangenheit lebendig. Verlust und menschliche Tragödien. Ein Kampf zwischen Bewahrung und Fortschritt. Neu erzählt. Neu verfilmt.
URL:https://derbergfilmer.de/event/der-forggensee-ein-neuer-see-im-alten-bett/
CATEGORIES:Filmvorführung
ATTACH;FMTTYPE=image/png:https://derbergfilmer.de/wp-content/uploads/2024/12/Logo_Filmhaus_Huber.png
END:VEVENT
BEGIN:VEVENT
DTSTART;TZID=UTC:20250604T180000
DTEND;TZID=UTC:20250604T190000
DTSTAMP:20260419T173428
CREATED:20220614T135634Z
LAST-MODIFIED:20250602T195900Z
UID:688-1749060000-1749063600@derbergfilmer.de
SUMMARY:Der Forggensee - ein Neuer See im alten Bett
DESCRIPTION:1954 wurde der Lech von Rosshaupten bis Füssen zum Forggensee aufgestaut\, Deutschland größter Stausee war geboren. In einer Symbiose von Poesie und Dokumentation erzählt der Film die außergewöhnliche Geschichte vom Werden und Vergehen eines Sees der zweimal geboren wurde.  \n\n\n\nEs ist mehr als nur eine Dokumentation – denn der Forggensee selber erzählt in eigener poetischer Sprache seine ureigenste Geschichte. Aufwendig restauriertes historisches Filmmaterial macht die Vergangenheit lebendig. Verlust und menschliche Tragödien. Ein Kampf zwischen Bewahrung und Fortschritt. Neu erzählt. Neu verfilmt.
URL:https://derbergfilmer.de/event/climbing-wall-festival/
CATEGORIES:Filmvorführung
ATTACH;FMTTYPE=image/png:https://derbergfilmer.de/wp-content/uploads/2025/03/Koenigsbrunn_Kino_Logo.png
END:VEVENT
END:VCALENDAR